BEGIN:VCALENDAR
VERSION:2.0
PRODID:icalendar-ruby
CALSCALE:GREGORIAN
METHOD:PUBLISH
BEGIN:VEVENT
DTSTAMP:20260424T121113Z
UID:6-1594905@zionpres.org
DTSTART:20261101T143000Z
DTEND:20261101T153000Z
CLASS:PUBLIC
CREATED:20260424T084006
DESCRIPTION:
LAST-MODIFIED:20260424T084006
LOCATION:
SUMMARY:Sunday Worship
URL;VALUE=URI:https://zionpres.org/events/sunday-worship--6/2026-11-01
END:VEVENT
END:VCALENDAR
