BEGIN:VCALENDAR
VERSION:2.0
PRODID:icalendar-ruby
CALSCALE:GREGORIAN
METHOD:PUBLISH
BEGIN:VEVENT
DTSTAMP:20260424T102602Z
UID:6-1593947@zionpres.org
DTSTART:20261025T133000Z
DTEND:20261025T143000Z
CLASS:PUBLIC
CREATED:20260423T231147
DESCRIPTION:
LAST-MODIFIED:20260423T231147
LOCATION:
SUMMARY:Sunday Worship
URL;VALUE=URI:https://zionpres.org/events/sunday-worship--6/2026-10-25
END:VEVENT
END:VCALENDAR
