BEGIN:VCALENDAR
VERSION:2.0
PRODID:icalendar-ruby
CALSCALE:GREGORIAN
METHOD:PUBLISH
BEGIN:VEVENT
DTSTAMP:20260422T081947Z
UID:6-1582484@zionpres.org
DTSTART:20261004T133000Z
DTEND:20261004T143000Z
CLASS:PUBLIC
CREATED:20260421T213614
DESCRIPTION:
LAST-MODIFIED:20260421T213614
LOCATION:
SUMMARY:Sunday Worship
URL;VALUE=URI:https://zionpres.org/events/sunday-worship--6/2026-10-04
END:VEVENT
END:VCALENDAR
