BEGIN:VCALENDAR
VERSION:2.0
PRODID:icalendar-ruby
CALSCALE:GREGORIAN
METHOD:PUBLISH
BEGIN:VEVENT
DTSTAMP:20260420T054039Z
UID:6-1570102@zionpres.org
DTSTART:20260920T133000Z
DTEND:20260920T143000Z
CLASS:PUBLIC
CREATED:20260419T235241
DESCRIPTION:
LAST-MODIFIED:20260419T235241
LOCATION:
SUMMARY:Sunday Worship
URL;VALUE=URI:https://zionpres.org/events/sunday-worship--6/2026-09-20
END:VEVENT
END:VCALENDAR
