BEGIN:VCALENDAR
VERSION:2.0
PRODID:icalendar-ruby
CALSCALE:GREGORIAN
METHOD:PUBLISH
BEGIN:VEVENT
DTSTAMP:20260420T035406Z
UID:6-1570101@zionpres.org
DTSTART:20260913T133000Z
DTEND:20260913T143000Z
CLASS:PUBLIC
CREATED:20260419T235241
DESCRIPTION:
LAST-MODIFIED:20260419T235241
LOCATION:
SUMMARY:Sunday Worship
URL;VALUE=URI:https://zionpres.org/events/sunday-worship--6/2026-09-13
END:VEVENT
END:VCALENDAR
