BEGIN:VCALENDAR
VERSION:2.0
PRODID:icalendar-ruby
CALSCALE:GREGORIAN
METHOD:PUBLISH
BEGIN:VEVENT
DTSTAMP:20260423T072339Z
UID:128-1433142@zionpres.org
DTSTART:20260423T213000Z
DTEND:20260423T230000Z
CLASS:PUBLIC
CREATED:20260326T143951
DESCRIPTION:
LAST-MODIFIED:20260326T143951
LOCATION:
SUMMARY:Session
URL;VALUE=URI:https://zionpres.org/events/session--128/2026-04-23
END:VEVENT
END:VCALENDAR
